BEGIN:VCALENDAR
VERSION:2.0
PRODID:-//Right Use of Power Institute - ECPv6.15.20//NONSGML v1.0//EN
CALSCALE:GREGORIAN
METHOD:PUBLISH
X-ORIGINAL-URL:https://rightuseofpower.org
X-WR-CALDESC:Events for Right Use of Power Institute
REFRESH-INTERVAL;VALUE=DURATION:PT1H
X-Robots-Tag:noindex
X-PUBLISHED-TTL:PT1H
BEGIN:VTIMEZONE
TZID:America/Denver
BEGIN:DAYLIGHT
TZOFFSETFROM:-0700
TZOFFSETTO:-0600
TZNAME:MDT
DTSTART:20230312T090000
END:DAYLIGHT
BEGIN:STANDARD
TZOFFSETFROM:-0600
TZOFFSETTO:-0700
TZNAME:MST
DTSTART:20231105T080000
END:STANDARD
BEGIN:DAYLIGHT
TZOFFSETFROM:-0700
TZOFFSETTO:-0600
TZNAME:MDT
DTSTART:20240310T090000
END:DAYLIGHT
BEGIN:STANDARD
TZOFFSETFROM:-0600
TZOFFSETTO:-0700
TZNAME:MST
DTSTART:20241103T080000
END:STANDARD
BEGIN:DAYLIGHT
TZOFFSETFROM:-0700
TZOFFSETTO:-0600
TZNAME:MDT
DTSTART:20250309T090000
END:DAYLIGHT
BEGIN:STANDARD
TZOFFSETFROM:-0600
TZOFFSETTO:-0700
TZNAME:MST
DTSTART:20251102T080000
END:STANDARD
BEGIN:DAYLIGHT
TZOFFSETFROM:-0700
TZOFFSETTO:-0600
TZNAME:MDT
DTSTART:20260308T090000
END:DAYLIGHT
BEGIN:STANDARD
TZOFFSETFROM:-0600
TZOFFSETTO:-0700
TZNAME:MST
DTSTART:20261101T080000
END:STANDARD
END:VTIMEZONE
BEGIN:VEVENT
DTSTART;TZID=America/Denver:20250123T120000
DTEND;TZID=America/Denver:20250123T130000
DTSTAMP:20260423T224922
CREATED:20241213T172835Z
LAST-MODIFIED:20241213T172933Z
UID:10000443-1737633600-1737637200@rightuseofpower.org
SUMMARY:Using Power Wisely and Well: Thought Leader Webinar
DESCRIPTION:In a time when we seem to be hearing more about misuses and abuses of power than about power used for the common good\, we want to shine a light on people who are using their power wisely and well. In a time when\, wanting to avoid causing harm\, people unconsciously misuse power by disowning it\, we want to illuminate the good that power can bring. In a time when the shadow of power overwhelms and distresses\, we want to get more and more clear about the perils and pitfalls of power.  This will allow us to become increasingly self-aware and avoid the tendencies to self-centeredness\, greed\, need for control and adulation\, and loss of empathy that so often accompany increasing access to power. \n  \nIn this hour together\, we will have a chance to listen and to talk with people in high role-power positions who are using their power well and shaping it for good.  Let’s see what they have to say about being tempted and tested\, how they have responded\, and what they’ve learned about power.   In contrast to when power is abused\, when power is used humbly and well\, we hardly notice\,  Things are smooth\, conflicts get handled\, mistakes learned from\, and multiple people get acknowledged. \n  \nIn further announcements about this Thought-Leader program\, we will be letting you know who our guests will be.
URL:https://rightuseofpower.org/event/using-power-wisely-thought-leader-webinar/
CATEGORIES:Thought Leader Webinar
ATTACH;FMTTYPE=image/png:https://rightuseofpower.org/wp-content/uploads/2024/05/Untitled-design-11.png
LOCATION:https://rightuseofpower.org/event/using-power-wisely-thought-leader-webinar/
END:VEVENT
BEGIN:VEVENT
DTSTART;TZID=America/Denver:20241121T120000
DTEND;TZID=America/Denver:20241121T130000
DTSTAMP:20260423T224922
CREATED:20241021T170708Z
LAST-MODIFIED:20241021T170708Z
UID:10000441-1732190400-1732194000@rightuseofpower.org
SUMMARY:The Wheel of Consent and Personal Power: Thought Leader Webinar
DESCRIPTION:The Wheel of Consent and Right Use of Power have been called “a match made in heaven”.  What do these practices have to do with each other and where do they overlap? How can each of them shed light on the other?\n\nThe Wheel of Consent is designed to help you develop personal awareness and skills around receiving and giving touch\, and a lot else in relationship.  This involves noticing what you want and what you are okay with\, noticing the difference between those two\, and communicating that. It’s a practice that deepens both self-responsibility and generosity. And because it’s a somatic practice\, the learning lands deeply in your body and psyche.\n\nBetty is very much looking forward to diving in with us about how the Wheel of Consent and the Right Use of Power intersect.\n\n  \n\nBetty Martin\n \nDr. Betty Martin has had her hands on people professionally for over 40 years. First as a Chiropractor\, then after retiring from that practice\, as a sex coach and certified surrogate partner. Those experiences taught her that when it comes to touch (and a lot else)\, who is doing the touching is a different question than who it’s for. When you are touching someone\, are you doing what they want or what you want? And why does it matter? She developed the Wheel of Consent\, wrote a book about it\, and travels the world teaching it to other professionals. \nbettymartin.org \nwheelofconsentbook.com
URL:https://rightuseofpower.org/event/wheel-of-consent-thought-leader-webinar/
CATEGORIES:Thought Leader Webinar
ATTACH;FMTTYPE=image/png:https://rightuseofpower.org/wp-content/uploads/2024/05/Untitled-design-11.png
LOCATION:https://rightuseofpower.org/event/wheel-of-consent-thought-leader-webinar/
END:VEVENT
BEGIN:VEVENT
DTSTART;TZID=America/Denver:20240926T120000
DTEND;TZID=America/Denver:20240926T130000
DTSTAMP:20260423T224922
CREATED:20240905T155537Z
LAST-MODIFIED:20240923T174336Z
UID:10000424-1727352000-1727355600@rightuseofpower.org
SUMMARY:UNTRIGGERABLE: How Mastering our Triggers Awakens Love in our World: Thought Leader Webinar
DESCRIPTION:This program presented by Jim Dreaver primarily invites us into the realm of Personal Power. As RUP evolves\, we are finding that rooting deeply into our personal power and working with our past woundings is profoundly important as a strong foundation for our work in the other types of power. \nThis process is not a RUPI course\, but is\, as a Thought-Leader program\, an opportunity to explore. Please note that there will be no Thought-Leader program in October. Please come to our RUPI Conference\, Oct 18-20! \n  \nUNTRIGGERABLE: How Mastering our Triggers Awakens Love in our World \nI teach a fast path to inner peace—learning to love our triggers\, those times when we emotionally react to someone or something. After all\, our triggers show us where we are not yet free. \nWe must realize that it is our ego “I” that gets triggered\, not our true “self\,” the deep\, functional “I” within us\, which is always alert\, aware\, and responsive to this moment. \nWhen we are triggered\, we affirm the mind-blowing mantra\, “Who is this ‘me’ that gets triggered?” (that gets frustrated\, angry\, upset\, worried\, fearful etc.) and look within. \nBut what we discover is that the “me\,” the “I” exists only as a thought\, a concept\, a belief\, a “story” that comes-and-goes in the spacious awareness we always are.\n‘\nThe more we realize this\, the freer we are. Our ego no longer has power over us\, and we create a new “story\,” one that comes from a profound inner knowing\, and compassion for everyone! \n  \n\n\nJim Dreaver \n \n  \nJim Dreaver\, a native of New Zealand\, served with NZ forces in the Vietnam War\, then worked as a chiropractor in northern California. He was on a spiritual journey for many years\, before finally waking up to the fact that he was not his ego “I\,” nor any other thought or “story\,” in 1995. \nHe is the author of End Your Story\, Begin Your Life (Hampton Roads) The Way of Harmony (Avon)\, and The Ultimate Cure (Llewellyn) and has taught at Esalen Institute and elsewhere for many years. His newest book is Untriggerble: How Mastering our Triggers Awakens Love in our World here: https://www.jimdreaver.com
URL:https://rightuseofpower.org/event/untriggerable-thought-leader-webinar/
CATEGORIES:Thought Leader Webinar
ATTACH;FMTTYPE=image/png:https://rightuseofpower.org/wp-content/uploads/2024/05/Untitled-design-11.png
LOCATION:https://rightuseofpower.org/event/untriggerable-thought-leader-webinar/
END:VEVENT
BEGIN:VEVENT
DTSTART;TZID=America/Denver:20240822T120000
DTEND;TZID=America/Denver:20240822T130000
DTSTAMP:20260423T224922
CREATED:20240809T160457Z
LAST-MODIFIED:20240815T192223Z
UID:10000422-1724328000-1724331600@rightuseofpower.org
SUMMARY:Social Media Power: Shadow and Shine. : Thought Leader Webinar
DESCRIPTION:Technology\, like power\, is neutral.  It is how we use it that determines when it is harmful or helpful.  And\, like most things\, social media is a strong mixture of both.  Our time will begin with a recorded conversation between Cedar and Batia\, a high school senior\, talking about her and her friends’ perspective and experience with social media–both the positives and the negatives for them as teenagers.  We will use this conversation to talk further about the challenges of distraction and addictiveness and ways to work with these in a power-conscious way.  What awareness\, strategies\, skills can we share with each other?\n\n\nCedar Barstow and Batia Rose Wilson \n \nCedar Barstow is the founder and executive director emerita of Right Use of Power Institute. She has had a long interest in the power of the internet and social media–and how it impacts our sense of personal power in relationships\, how it impacts our use of time\, and how it impacts our understanding of truth and reality. She is concerned for herself and for the next generations. Batia Rose Wilson is entering her senior year in high school and has been engaging with social media and focusing on how to use it in healthy\, life-affirming ways. Both Cedar and Batia live in Boulder\, Colorado.
URL:https://rightuseofpower.org/event/social-media-power-thought-leader-webinar/
CATEGORIES:Thought Leader Webinar
ATTACH;FMTTYPE=image/png:https://rightuseofpower.org/wp-content/uploads/2024/05/Untitled-design-11.png
LOCATION:https://rightuseofpower.org/event/social-media-power-thought-leader-webinar/
END:VEVENT
END:VCALENDAR