BEGIN:VCALENDAR
VERSION:2.0
PRODID:-//Right Use of Power Institute - ECPv6.15.20//NONSGML v1.0//EN
CALSCALE:GREGORIAN
METHOD:PUBLISH
X-WR-CALNAME:Right Use of Power Institute
X-ORIGINAL-URL:https://rightuseofpower.org
X-WR-CALDESC:Events for Right Use of Power Institute
REFRESH-INTERVAL;VALUE=DURATION:PT1H
X-Robots-Tag:noindex
X-PUBLISHED-TTL:PT1H
BEGIN:VTIMEZONE
TZID:America/Denver
BEGIN:DAYLIGHT
TZOFFSETFROM:-0700
TZOFFSETTO:-0600
TZNAME:MDT
DTSTART:20250309T090000
END:DAYLIGHT
BEGIN:STANDARD
TZOFFSETFROM:-0600
TZOFFSETTO:-0700
TZNAME:MST
DTSTART:20251102T080000
END:STANDARD
BEGIN:DAYLIGHT
TZOFFSETFROM:-0700
TZOFFSETTO:-0600
TZNAME:MDT
DTSTART:20260308T090000
END:DAYLIGHT
BEGIN:STANDARD
TZOFFSETFROM:-0600
TZOFFSETTO:-0700
TZNAME:MST
DTSTART:20261101T080000
END:STANDARD
BEGIN:DAYLIGHT
TZOFFSETFROM:-0700
TZOFFSETTO:-0600
TZNAME:MDT
DTSTART:20270314T090000
END:DAYLIGHT
BEGIN:STANDARD
TZOFFSETFROM:-0600
TZOFFSETTO:-0700
TZNAME:MST
DTSTART:20271107T080000
END:STANDARD
END:VTIMEZONE
BEGIN:VTIMEZONE
TZID:UTC
BEGIN:STANDARD
TZOFFSETFROM:+0000
TZOFFSETTO:+0000
TZNAME:UTC
DTSTART:20250101T000000
END:STANDARD
END:VTIMEZONE
BEGIN:VEVENT
DTSTART;TZID=America/Denver:20260219T120000
DTEND;TZID=America/Denver:20260219T130000
DTSTAMP:20260424T000550
CREATED:20260129T173253Z
LAST-MODIFIED:20260202T173033Z
UID:10000493-1771502400-1771506000@rightuseofpower.org
SUMMARY:Universal Power: Configurative and Emergent: Thought Leader Webinar February 2026
DESCRIPTION:Universal Power: Configurative and Emergent \nUniversal Power is the newest type of power that Right Use of Power Institute has been exploring.  How do we talk about Universal Power–power that is both all-inclusive and beyond our human capacity to understand? \nAn interesting distinction that we are making is between the emergent experience of Universal Power coming through us and all creation\, and the configurative experience of Universal Power\, which is felt outside of us\, shaping and influencing us within the largest possible context. \nThis distinction between ‘configurative’ and ‘emergent’ is particularly useful in understanding how Universal Power intersects with systemic power and collective power\, role and status power\, and of course personal power. \nLet’s talk about it together.  This program is an introduction to these concepts and also to our exciting upcoming online course for spiritual leadership. \n\nThea Elijah \n\n \nMaryam Thea Elijah is a Murabi Ruhi of the Shadhuliyya Sufi order under Sidi Muhammad al-Jamal ar-Rafa’i ash-Shadhuliyya. She grew up in the household of Lex Hixon\, a multiply ordained adept in a number of sacred traditions\, and so from childhood\, she has been immersed in earnest and honest interfaith conversations. She is also a Chinese medicine practitioner of 40 years with a particular delight in ‘interfaith healing’ conversations between medical modalities that are rooted in spirit. Maryam Thea Elijah is currently designing and preparing to teach the Right Use of Power Institute’s “Right Use of Power for Spiritual Leaders” program. \n\n \nHosted by RUPI founder\, Cedar Barstow\n \nCedar Barstow\n \n\nCedar (she/her) is the developer of the Right Use of Power approach to issues and dynamics of power and ethics since 1994. Cedar’s background includes 30 years as a psychotherapist and 25 years as a teacher. \nThe Founder of The Right Use of Power Institute (RUPI)\, she and her colleagues continue to grow and evolve the concepts\, skills\, books\, embodied exercises and courses that are accessed through the website.
URL:https://rightuseofpower.org/event/universal-power-configurative-and-emergent-thought-leader-webinar-february-2026/
CATEGORIES:Thought Leader Webinar
ATTACH;FMTTYPE=image/png:https://rightuseofpower.org/wp-content/uploads/2024/05/Untitled-design-11.png
LOCATION:https://rightuseofpower.org/event/universal-power-configurative-and-emergent-thought-leader-webinar-february-2026/
END:VEVENT
BEGIN:VEVENT
DTSTART;TZID=UTC:20260222T090000
DTEND;TZID=UTC:20260222T103000
DTSTAMP:20260424T000550
CREATED:20260202T163121Z
LAST-MODIFIED:20260222T160626Z
UID:10000494-1771750800-1771756200@rightuseofpower.org
SUMMARY:Circle of Honor Celebration – Sun\, Feb 22\, 2026 | 9:00–10:30 am MST
DESCRIPTION:Come Celebrate With Us\nRUPI CIRCLE OF HONOR\nJoin Us in Honoring a Few of the Extraordinary People Who’ve Shaped Our Journey\nPlease join us to celebrate:\nSunday\, February 22\, 2026\n9:00–10:30 am MST \nHosted by the Right Use of Power Institute \nFor more than 35 years—since the beginning of Right Use of Power ethics trainings in 1989—so many people have poured their care\, wisdom\, and leadership into this work. They showed up\, believed in the vision\, and helped grow RUPI into the community it is today. \nTo honor this legacy\, we are proud to host our very first Circle of Honor—a gathering dedicated to celebrating individuals who have been truly essential to our journey. \nThis inaugural Circle of Honor will recognize 14 remarkable people whose contributions span every chapter of our story\, from our earliest days to the present moment. \nHonorees \n\nCliff Penwell\nKathy Ginn\nRich Ireland\nMarni Harmony\nCharna Rosenholtz\nMagi Cooper\nJeff Couillard\nMaya Shaw Gale\nRen Feldman\nRegina Smith\nSherri Taylor\nBarbara Castro\nPeg Syverson\nPeggy Kass\n\nWe warmly invite you to join us—whether you’ve worked closely with these honorees\, been inspired by their leadership\, or simply wish to be part of this meaningful moment of gratitude and reflection. \nEvent Details \nSunday\, February 22\, 20269:00–10:30 am MSTRSVP below \n\nThis gathering will be a time to pause\, reflect\, and celebrate the people whose presence and dedication have shaped Right Use of Power. Expect a joyful\, meaningful space filled with appreciation and connection. \nWe hope you’ll join us. \nCedar Barstow\, Shiva Roofeh\, and Sari AjankoOn behalf of the Right Use of Power Institute and Mission Circle
URL:https://rightuseofpower.org/event/circle-of-honor-celebration-sun-feb-22-2026-900-1030-am-mst/
CATEGORIES:Thought Leader Webinar
ATTACH;FMTTYPE=image/png:https://rightuseofpower.org/wp-content/uploads/2026/02/tree-in-circle.png
LOCATION:https://us02web.zoom.us/j/83333591229
END:VEVENT
BEGIN:VEVENT
DTSTART;TZID=America/Denver:20260319T120000
DTEND;TZID=America/Denver:20260319T130000
DTSTAMP:20260424T000550
CREATED:20260211T061832Z
LAST-MODIFIED:20260319T175540Z
UID:10000497-1773921600-1773925200@rightuseofpower.org
SUMMARY:Thought Leader Webinar | When Power Hurts: From Moral Injury to Moral Courage – March 19
DESCRIPTION:In this conversation\, Gabriela Zapata-Alma\, LCSW\, CADC unpacks moral injury as a crisis of conscience shaped by power\, systems\, and survival responses – and how moral courage and ethical defiance can help individuals and organizations use power in ways that protect dignity\, justice\, and connection. Come join us in this engaging conversation. \n\nGabriela Zapata-Alma \n\n\n\n\n\n\nRight Use of Power Institute is honored to have Gabriella on our Board of Directors. \nGabriela Zapata-Alma\, LCSW\, CADC (they/elle) is a liberation-centered clinician\, educator\, and national expert with 20 years’ experience supporting survivors of interpersonal and structural violence. They lead GZA INK\, serve as Associate Director of the National Center on Domestic Violence\, Trauma\, and Mental Health\, and direct the Alcohol and Other Drug Counselor Training Program at the University of Chicago. A survivor and published author\, Gabriela centers trauma-informed\, survivor-led approaches and intergenerational healing in all their work. \n\n\n \nHosted by Maya Shaw Gale\n\n\nMaya Shaw Gale is a Board Certified (BCC) life and leadership coach\, a certified Hakomi practitioner and trainer\, an energy medicine teacher\, and an advanced RUP teacher. Over the past year\, she has been part of a team developing a RUP coaching and consulting application. Based in Sedona\, Arizona\, Maya maintains a private practice where she coaches community and business leaders\, healers\, spiritual teachers\, artists\, and highly sensitive and empathic individuals. \nThroughout her life\, she has studied with a number of shamanic and indigenous teachers and is deeply committed to integrating indigenous perspectives of interconnectedness and reverence for all life into contemporary culture. She has served on the Board of the Tribal Trust Foundation\, a nonprofit dedicated to protecting indigenous cultures and supporting wisdom keepers in sharing their teachings. Currently\, she is collaborating with two corporate consultants to develop Business Beyond Usual\, a new paradigm approach to business.
URL:https://rightuseofpower.org/event/thought-leader-webinar-march-19/
CATEGORIES:Thought Leader Webinar
ATTACH;FMTTYPE=image/png:https://rightuseofpower.org/wp-content/uploads/2024/05/Untitled-design-11.png
LOCATION:https://rightuseofpower.org/event/thought-leader-webinar-march-19/
END:VEVENT
BEGIN:VEVENT
DTSTART;TZID=America/Denver:20260423T120000
DTEND;TZID=America/Denver:20260423T130000
DTSTAMP:20260424T000550
CREATED:20260319T183227Z
LAST-MODIFIED:20260423T145401Z
UID:10000500-1776945600-1776949200@rightuseofpower.org
SUMMARY:Thought Leader Webinar | Using Rooted Personal Power in Times of Political Upheaval – April 23
DESCRIPTION:FREE EVENT \nIn times of change and uncertainty\, questions of power—how we hold it\, use it\, and respond to it—become essential. In this Thought Leader session\, Farzin explores the relationship between personal power and collective dynamics\, drawing from his experience across both liberatory and institutional spaces. \nHe reflects on how individuals make intentional choices about where to place their energy\, skills\, and influence\, and how power operates within different systems of governance. Rooted in the principles of the Right Use of Power Institute\, this conversation invites participants to consider how personal power can remain a steady\, ethical\, and responsive force in complex times. \nCome join us in this engaging conversation. \nFarzin Farzad \n\n\n\n\nRight Use of Power Institute is honored to have one of our former Board of Directors join us. \nFarzin Farzad (he/him/his) is the Founder of Critical Equity Consulting\, LLC\, a boutique organizational justice firm that partners with organizations to drive systems-level change and advance equitable outcomes. His expertise is grounded in experience across higher education\, local government\, and the private sector\, and is complemented by Master’s degrees in International Affairs and Diplomacy\, along with a certificate in Conflict Resolution. Farzin also serves as the Director of Diversity\, Equity\, and Inclusion at Run for Something. \n\n\n\nHosted by Dr. Cedar Barstow\n\n\nCedar (she/her) is the developer of the Right Use of Power approach to issues and dynamics of power and ethics since 1994. Cedar’s background includes 30 years as a psychotherapist and 25 years as a teacher. \nThe Founder of The Right Use of Power Institute (RUPI)\, she and her colleagues continue to grow and evolve the concepts\, skills\, books\, embodied exercises and courses that are accessed through the website. \n\n\n\nThese webinar recordings are available to all Power Positive Members and higher.
URL:https://rightuseofpower.org/event/thought-leader-webinar-april-23/
CATEGORIES:Thought Leader Webinar
ATTACH;FMTTYPE=image/png:https://rightuseofpower.org/wp-content/uploads/2024/05/Untitled-design-11.png
LOCATION:https://us02web.zoom.us/j/85711670151
END:VEVENT
END:VCALENDAR