BEGIN:VCALENDAR
VERSION:2.0
PRODID:-//Right Use of Power Institute - ECPv6.15.20//NONSGML v1.0//EN
CALSCALE:GREGORIAN
METHOD:PUBLISH
X-ORIGINAL-URL:https://rightuseofpower.org
X-WR-CALDESC:Events for Right Use of Power Institute
REFRESH-INTERVAL;VALUE=DURATION:PT1H
X-Robots-Tag:noindex
X-PUBLISHED-TTL:PT1H
BEGIN:VTIMEZONE
TZID:America/Denver
BEGIN:DAYLIGHT
TZOFFSETFROM:-0700
TZOFFSETTO:-0600
TZNAME:MDT
DTSTART:20240310T090000
END:DAYLIGHT
BEGIN:STANDARD
TZOFFSETFROM:-0600
TZOFFSETTO:-0700
TZNAME:MST
DTSTART:20241103T080000
END:STANDARD
BEGIN:DAYLIGHT
TZOFFSETFROM:-0700
TZOFFSETTO:-0600
TZNAME:MDT
DTSTART:20250309T090000
END:DAYLIGHT
BEGIN:STANDARD
TZOFFSETFROM:-0600
TZOFFSETTO:-0700
TZNAME:MST
DTSTART:20251102T080000
END:STANDARD
BEGIN:DAYLIGHT
TZOFFSETFROM:-0700
TZOFFSETTO:-0600
TZNAME:MDT
DTSTART:20260308T090000
END:DAYLIGHT
BEGIN:STANDARD
TZOFFSETFROM:-0600
TZOFFSETTO:-0700
TZNAME:MST
DTSTART:20261101T080000
END:STANDARD
END:VTIMEZONE
BEGIN:VEVENT
DTSTART;TZID=America/Denver:20250918T120000
DTEND;TZID=America/Denver:20250918T130000
DTSTAMP:20260424T082852
CREATED:20250804T182316Z
LAST-MODIFIED:20250804T182552Z
UID:10000471-1758196800-1758200400@rightuseofpower.org
SUMMARY:What To Do About The Biases Inside Us?: Thought Leader Webinar
DESCRIPTION:Join us for an open conversation featuring our guest thought leader\, Dr. Cedar Barstow\, Founder of the Right Use of Power Institute. \nWe all have biases.  What are they?  How do they impact (and often interfere with) our conversations\, our views\, our openness to feedback\, and\, of course\, how we use the power of our influence?  How do we compensate for these impacts?  We’ll be exploring two particular biases:  Confirmation bias and Negativity bias.  We will also be looking at the related issue of the harmful idealizing/devaluing dynamic that can afflict leaders at every level.  Join us! \nDr. Cedar Barstow \n \nCedar (she/her) is a consultant and teacher on ethics and ethical issues. She has been designing\, developing\, and teaching this approach since 1994. Cedar’s background includes 30 years as a psychotherapist and 25 years as a teacher. \nShe is the author of books and articles on ethics\, counseling with elders\, women and independence\, and psychotherapy and spirituality. Cedar is also a Hakomi Experiential Psychology Trainer and a member of the Naropa University Adjunct Faculty. She maintains a private psychotherapy and ethics consulting practice in Boulder/Denver and teaches both Right Use of Power™ and Hakomi nationally and internationally. \nThe Right Use of Power™ educational materials and exercises were developed by Cedar over a period of 20 years and dozens of trainings. \nThese teachings have been influenced by many sources in Cedar’s background. She is particularly grateful for her extensive experiences as an administrator\, therapist\, and trainer of the the Hakomi Method of Experiential Psychotherapy\, chair of both the Hakomi Institute International Ethics Committee (HIEC) and the United States Association of Body Psychotherapy (USABP) Ethics Committee\, ethics expert contributor to GoodTherapy.org\, consultant to numerous organizations\, and ceremonialist with the Earth Song Ceremonial Dance Community.
URL:https://rightuseofpower.org/event/what-to-do-about-the-biases-inside-us/
CATEGORIES:Thought Leader Webinar
ATTACH;FMTTYPE=image/png:https://rightuseofpower.org/wp-content/uploads/2024/05/Untitled-design-11.png
LOCATION:https://rightuseofpower.org/event/what-to-do-about-the-biases-inside-us/
END:VEVENT
END:VCALENDAR