BEGIN:VCALENDAR
VERSION:2.0
PRODID:-//Right Use of Power Institute - ECPv6.15.20//NONSGML v1.0//EN
CALSCALE:GREGORIAN
METHOD:PUBLISH
X-WR-CALNAME:Right Use of Power Institute
X-ORIGINAL-URL:https://rightuseofpower.org
X-WR-CALDESC:Events for Right Use of Power Institute
REFRESH-INTERVAL;VALUE=DURATION:PT1H
X-Robots-Tag:noindex
X-PUBLISHED-TTL:PT1H
BEGIN:VTIMEZONE
TZID:America/Denver
BEGIN:DAYLIGHT
TZOFFSETFROM:-0700
TZOFFSETTO:-0600
TZNAME:MDT
DTSTART:20240310T090000
END:DAYLIGHT
BEGIN:STANDARD
TZOFFSETFROM:-0600
TZOFFSETTO:-0700
TZNAME:MST
DTSTART:20241103T080000
END:STANDARD
BEGIN:DAYLIGHT
TZOFFSETFROM:-0700
TZOFFSETTO:-0600
TZNAME:MDT
DTSTART:20250309T090000
END:DAYLIGHT
BEGIN:STANDARD
TZOFFSETFROM:-0600
TZOFFSETTO:-0700
TZNAME:MST
DTSTART:20251102T080000
END:STANDARD
BEGIN:DAYLIGHT
TZOFFSETFROM:-0700
TZOFFSETTO:-0600
TZNAME:MDT
DTSTART:20260308T090000
END:DAYLIGHT
BEGIN:STANDARD
TZOFFSETFROM:-0600
TZOFFSETTO:-0700
TZNAME:MST
DTSTART:20261101T080000
END:STANDARD
END:VTIMEZONE
BEGIN:VEVENT
DTSTART;TZID=America/Denver:20250515T120000
DTEND;TZID=America/Denver:20250515T130000
DTSTAMP:20260424T143215
CREATED:20250421T170709Z
LAST-MODIFIED:20250721T210907Z
UID:10000463-1747310400-1747314000@rightuseofpower.org
SUMMARY:When Personal Power Feels Dangerous: Thought Leader Webinar
DESCRIPTION:Childhood trauma can disconnect us from our true nature. Growing up in challenging circumstances\, we develop survival strategies that separate us from our personal power—a disconnection that initially kept us safe but eventually becomes limiting. As adults\, though we no longer need these protective mechanisms\, we may still feel threatened by reclaiming our authentic power. \nRight Use of Power trainings are designed to help us become more Power-Conscious. Although the model that Sarah will be bringing to this Thought-Leader program is not part of the RUPI curriculum\, we expect it will support your becoming more Power-\nConscious and effective. \nThe NeuroAffective Relational Model (NARM) helped this month&#39;s guest reconnect with her personal power and overcome self-shame. NARM is a cutting-edge approach to healing attachment\, relational\, and developmental trauma by addressing the unconscious patterns that create lifelong psychobiological symptoms and relationship difficulties. These early patterns of disconnection profoundly impact our identity\, emotions\, physiology\, behavior\, and capacity for meaningful connection. Healing these patterns ultimately help us exercise our right use of power. \n  \nSarah Buino: \n \nSarah is trained as a Right Use of Power Facilitator and also serves as Chair of RUPI’s Mission Circle (Board of Directors). We are delighted to introduce her as our presenter this month. \nSarah Buino\, LCSW\, RDDP\, CADC\, NMT\, is a multi-talented therapist\, speaker\, educator\, consultant\, and visionary founder of the therapy practice Head/Heart Therapy\, Inc\, and business consulting organization Head/Heart Business Therapy. As an esteemed member of Loyola University Chicago’s adjunct faculty and dynamic podcast host\, Conversations With a Wounded Healer\, she passionately advocates for personal growth and collective action.
URL:https://rightuseofpower.org/event/personal-power-feels-dangerous-thought-leader-webinar/
CATEGORIES:Thought Leader Webinar
ATTACH;FMTTYPE=image/png:https://rightuseofpower.org/wp-content/uploads/2024/05/Untitled-design-11.png
LOCATION:https://rightuseofpower.org/event/personal-power-feels-dangerous-thought-leader-webinar/
END:VEVENT
END:VCALENDAR