BEGIN:VCALENDAR
VERSION:2.0
PRODID:-//Right Use of Power Institute - ECPv6.15.20//NONSGML v1.0//EN
CALSCALE:GREGORIAN
METHOD:PUBLISH
X-WR-CALNAME:Right Use of Power Institute
X-ORIGINAL-URL:https://rightuseofpower.org
X-WR-CALDESC:Events for Right Use of Power Institute
REFRESH-INTERVAL;VALUE=DURATION:PT1H
X-Robots-Tag:noindex
X-PUBLISHED-TTL:PT1H
BEGIN:VTIMEZONE
TZID:America/Denver
BEGIN:DAYLIGHT
TZOFFSETFROM:-0700
TZOFFSETTO:-0600
TZNAME:MDT
DTSTART:20240310T090000
END:DAYLIGHT
BEGIN:STANDARD
TZOFFSETFROM:-0600
TZOFFSETTO:-0700
TZNAME:MST
DTSTART:20241103T080000
END:STANDARD
BEGIN:DAYLIGHT
TZOFFSETFROM:-0700
TZOFFSETTO:-0600
TZNAME:MDT
DTSTART:20250309T090000
END:DAYLIGHT
BEGIN:STANDARD
TZOFFSETFROM:-0600
TZOFFSETTO:-0700
TZNAME:MST
DTSTART:20251102T080000
END:STANDARD
BEGIN:DAYLIGHT
TZOFFSETFROM:-0700
TZOFFSETTO:-0600
TZNAME:MDT
DTSTART:20260308T090000
END:DAYLIGHT
BEGIN:STANDARD
TZOFFSETFROM:-0600
TZOFFSETTO:-0700
TZNAME:MST
DTSTART:20261101T080000
END:STANDARD
END:VTIMEZONE
BEGIN:VEVENT
DTSTART;TZID=America/Denver:20250320T120000
DTEND;TZID=America/Denver:20250320T130000
DTSTAMP:20260424T172940
CREATED:20250307T172902Z
LAST-MODIFIED:20250310T204021Z
UID:10000460-1742472000-1742475600@rightuseofpower.org
SUMMARY:Power Consciousness: Using Down-role Power Wisely and Well: Thought Leader Webinar
DESCRIPTION:Up-role power isn’t all power and down-role power isn’t no power\, even though it sometimes may seem that way.  As we change roles from teacher to student\, therapist to client\, doctor to patient and so on\, the power dynamic also changes. Join us for a discussion with our panel about down-role power experiences.  Our panel members are Dave Medema\, Kelly Sheeran\, and Janet Zahn. We’ll be talking about power differential relationship changes and challenges\, and also how to navigate and use down-role power influence wisely and well.  This is another opportunity to increase your power consciousness. \nFacilitated by: Fenna Diephius RUP Teacher
URL:https://rightuseofpower.org/event/using-down-role-power-wisely-well-thought-leader-webinar/
CATEGORIES:Thought Leader Webinar
ATTACH;FMTTYPE=image/png:https://rightuseofpower.org/wp-content/uploads/2024/05/Untitled-design-11.png
LOCATION:https://rightuseofpower.org/event/using-down-role-power-wisely-well-thought-leader-webinar/
END:VEVENT
END:VCALENDAR