BEGIN:VCALENDAR
VERSION:2.0
PRODID:-//Right Use of Power Institute - ECPv6.15.20//NONSGML v1.0//EN
CALSCALE:GREGORIAN
METHOD:PUBLISH
X-WR-CALNAME:Right Use of Power Institute
X-ORIGINAL-URL:https://rightuseofpower.org
X-WR-CALDESC:Events for Right Use of Power Institute
REFRESH-INTERVAL;VALUE=DURATION:PT1H
X-Robots-Tag:noindex
X-PUBLISHED-TTL:PT1H
BEGIN:VTIMEZONE
TZID:America/Denver
BEGIN:DAYLIGHT
TZOFFSETFROM:-0700
TZOFFSETTO:-0600
TZNAME:MDT
DTSTART:20240310T090000
END:DAYLIGHT
BEGIN:STANDARD
TZOFFSETFROM:-0600
TZOFFSETTO:-0700
TZNAME:MST
DTSTART:20241103T080000
END:STANDARD
BEGIN:DAYLIGHT
TZOFFSETFROM:-0700
TZOFFSETTO:-0600
TZNAME:MDT
DTSTART:20250309T090000
END:DAYLIGHT
BEGIN:STANDARD
TZOFFSETFROM:-0600
TZOFFSETTO:-0700
TZNAME:MST
DTSTART:20251102T080000
END:STANDARD
BEGIN:DAYLIGHT
TZOFFSETFROM:-0700
TZOFFSETTO:-0600
TZNAME:MDT
DTSTART:20260308T090000
END:DAYLIGHT
BEGIN:STANDARD
TZOFFSETFROM:-0600
TZOFFSETTO:-0700
TZNAME:MST
DTSTART:20261101T080000
END:STANDARD
END:VTIMEZONE
BEGIN:VEVENT
DTSTART;TZID=America/Denver:20250220T120000
DTEND;TZID=America/Denver:20250220T130000
DTSTAMP:20260424T190302
CREATED:20250207T173013Z
LAST-MODIFIED:20250207T173013Z
UID:10000445-1740052800-1740056400@rightuseofpower.org
SUMMARY:Doorways to Increasing Power Awareness: Thought Leader Webinar
DESCRIPTION:These are dangerous times of global ecological overshoot\, abuse of power and system collapse. Join us this month on a contemplative journey through some relevant themes.  Through slides\, readings\, poems\, and questions\, we will open doorways of power awareness.  First the doorway of dark predicament\, then the doorways of complicated hope\, awe\, re-orienting\, and guidance for moving forward.  How can our power-conscious understandings  help us to orient and act powerfully toward the common good?  Led by Cedar Barstow using her personal selection of inspiring and thought-provoking readings and resources.  There will be time for self-reflection and then sharing at the end of the hour. \n  \nDr. Cedar Barstow \n \nDr. Cedar Barstow is the founder and executive director emerita of The Right Use of Power Institute. She is a consultant and teacher on ethics and ethical issues. She has been designing\, developing\, and teaching this approach since 1994. Cedar’s background includes 30 years as a psychotherapist and 25 years as a teacher. She is the author of books and articles on ethics\, counseling with elders\, women and independence\, and psychotherapy and spirituality. Cedar is also a Hakomi Experiential Psychology Trainer and a member of the Naropa University Adjunct Faculty.
URL:https://rightuseofpower.org/event/doorways-to-increasing-power-thought-leader-webinar/
CATEGORIES:Thought Leader Webinar
ATTACH;FMTTYPE=image/png:https://rightuseofpower.org/wp-content/uploads/2024/05/Untitled-design-11.png
LOCATION:https://rightuseofpower.org/event/doorways-to-increasing-power-thought-leader-webinar/
END:VEVENT
END:VCALENDAR