BEGIN:VCALENDAR
VERSION:2.0
PRODID:-//Right Use of Power Institute - ECPv6.15.20//NONSGML v1.0//EN
CALSCALE:GREGORIAN
METHOD:PUBLISH
X-ORIGINAL-URL:https://rightuseofpower.org
X-WR-CALDESC:Events for Right Use of Power Institute
REFRESH-INTERVAL;VALUE=DURATION:PT1H
X-Robots-Tag:noindex
X-PUBLISHED-TTL:PT1H
BEGIN:VTIMEZONE
TZID:America/Denver
BEGIN:DAYLIGHT
TZOFFSETFROM:-0700
TZOFFSETTO:-0600
TZNAME:MDT
DTSTART:20240310T090000
END:DAYLIGHT
BEGIN:STANDARD
TZOFFSETFROM:-0600
TZOFFSETTO:-0700
TZNAME:MST
DTSTART:20241103T080000
END:STANDARD
BEGIN:DAYLIGHT
TZOFFSETFROM:-0700
TZOFFSETTO:-0600
TZNAME:MDT
DTSTART:20250309T090000
END:DAYLIGHT
BEGIN:STANDARD
TZOFFSETFROM:-0600
TZOFFSETTO:-0700
TZNAME:MST
DTSTART:20251102T080000
END:STANDARD
BEGIN:DAYLIGHT
TZOFFSETFROM:-0700
TZOFFSETTO:-0600
TZNAME:MDT
DTSTART:20260308T090000
END:DAYLIGHT
BEGIN:STANDARD
TZOFFSETFROM:-0600
TZOFFSETTO:-0700
TZNAME:MST
DTSTART:20261101T080000
END:STANDARD
END:VTIMEZONE
BEGIN:VEVENT
DTSTART;TZID=America/Denver:20251030T100000
DTEND;TZID=America/Denver:20251030T113000
DTSTAMP:20260423T194400
CREATED:20250923T150117Z
LAST-MODIFIED:20251028T170904Z
UID:10000476-1761818400-1761823800@rightuseofpower.org
SUMMARY:Power & Leadership through the Enneagram
DESCRIPTION:In this mini workshop\, you’ll be introduced to the foundations of the Enneagram — a dynamic map that describes nine personality styles\, or character strategies. Together we’ll explore how these patterns shape our power\, presence\, and leadership. \nLearning outcomes: \n\nIntroduction to the Enneagam model\nThe nine types and the three centers of intelligence (head\, heart\, and body)\nHow the structure of our personality is central to our personal power and leadership style\n\nTo deepen\, we will be examining three Enneagram styles through the lens of power. \nWe will hear three interviews on the topic: \n\nCedar Barstow\, the founder of RUPI\nAmanda Aguilera\, Executive Director\nSarah Buino\, Mission Circle Lead and Board President\n\n  \n \nThe session is led by Sari Ajanko\, RUPI Associate Facilitator (in Certification Training) and member of the Mission Circle (Board of Directors). Sari is a Leadership Coach and a Certified Enneagram Teacher in the Narrative Tradition. She has been a teacher and mentor on the narrative enneagram teacher training in Finland. \nSliding Scale \n100 % supports RUPI Mission.
URL:https://rightuseofpower.org/event/power-leadership-enneagram/
CATEGORIES:Power & Leadership through the Enneagram
ATTACH;FMTTYPE=image/png:https://rightuseofpower.org/wp-content/uploads/2025/09/RUPI-Webinar-LI-Posts-1280-x-720-px-1.png
ORGANIZER;CN="Sari Ajanko":MAILTO:sari.ajanko@diversitas.fi
LOCATION:https://rightuseofpower.org/event/power-leadership-enneagram/
END:VEVENT
END:VCALENDAR