BEGIN:VCALENDAR
VERSION:2.0
PRODID:-//Right Use of Power Institute - ECPv6.15.20//NONSGML v1.0//EN
CALSCALE:GREGORIAN
METHOD:PUBLISH
X-WR-CALNAME:Right Use of Power Institute
X-ORIGINAL-URL:https://rightuseofpower.org
X-WR-CALDESC:Events for Right Use of Power Institute
REFRESH-INTERVAL;VALUE=DURATION:PT1H
X-Robots-Tag:noindex
X-PUBLISHED-TTL:PT1H
BEGIN:VTIMEZONE
TZID:UTC
BEGIN:STANDARD
TZOFFSETFROM:+0000
TZOFFSETTO:+0000
TZNAME:UTC
DTSTART:20240101T000000
END:STANDARD
END:VTIMEZONE
BEGIN:VEVENT
DTSTART;TZID=UTC:20250829T090000
DTEND;TZID=UTC:20250829T100000
DTSTAMP:20260424T094934
CREATED:20250721T215437Z
LAST-MODIFIED:20250827T153700Z
UID:10000468-1756458000-1756461600@rightuseofpower.org
SUMMARY:Community of Practice: A Gathering – Fri\, Aug. 29
DESCRIPTION:Join us for a monthly gathering where Right Use of Power students and facilitators come together to reflect\, connect\, and deepen their wisdom around power dynamics in everyday life. These Community of Practice events are a brave and compassionate space to share real-life stories\, explore challenges\, and celebrate growth in using power ethically and heartfully. Whether you’re still unpacking the types of power\, navigating up-power roles\, or working with feedback and repair\, you’re welcome here. Come as you are\, and let’s learn together how to use our power with presence. \nSarah is trained as a Right Use of Power Facilitator and also serves as Chair of RUPI’s Mission Circle (Board of Directors). We are delighted to introduce her as our facilitator this month. \nSuggested donation:$20-$50 \nContact us if paying anything is a barrier to attending. \nRegister and Donate here\nSarah Buino: \n \nSarah Buino\, LCSW\, RDDP\, CADC\, NMT\, is a multi-talented therapist\, speaker\, educator\, consultant\, and visionary founder of the therapy practice Head/Heart Therapy\, Inc\, and business consulting organization Head/Heart Business Therapy. As an esteemed member of Loyola University Chicago’s adjunct faculty and dynamic podcast host\, Conversations With a Wounded Healer\, she passionately advocates for personal growth and collective action.
URL:https://rightuseofpower.org/event/community-of-practice-a-gathering/
CATEGORIES:Community of Practice
ATTACH;FMTTYPE=image/jpeg:https://rightuseofpower.org/wp-content/uploads/2025/07/chris-montgomery-smgTvepind4-unsplash-scaled.jpg
LOCATION:https://rightuseofpower.org/event/community-of-practice-a-gathering/
END:VEVENT
END:VCALENDAR