BEGIN:VCALENDAR
VERSION:2.0
PRODID:-//Right Use of Power Institute - ECPv6.15.20//NONSGML v1.0//EN
CALSCALE:GREGORIAN
METHOD:PUBLISH
X-ORIGINAL-URL:https://rightuseofpower.org
X-WR-CALDESC:Events for Right Use of Power Institute
REFRESH-INTERVAL;VALUE=DURATION:PT1H
X-Robots-Tag:noindex
X-PUBLISHED-TTL:PT1H
BEGIN:VTIMEZONE
TZID:America/Denver
BEGIN:DAYLIGHT
TZOFFSETFROM:-0700
TZOFFSETTO:-0600
TZNAME:MDT
DTSTART:20240310T090000
END:DAYLIGHT
BEGIN:STANDARD
TZOFFSETFROM:-0600
TZOFFSETTO:-0700
TZNAME:MST
DTSTART:20241103T080000
END:STANDARD
BEGIN:DAYLIGHT
TZOFFSETFROM:-0700
TZOFFSETTO:-0600
TZNAME:MDT
DTSTART:20250309T090000
END:DAYLIGHT
BEGIN:STANDARD
TZOFFSETFROM:-0600
TZOFFSETTO:-0700
TZNAME:MST
DTSTART:20251102T080000
END:STANDARD
BEGIN:DAYLIGHT
TZOFFSETFROM:-0700
TZOFFSETTO:-0600
TZNAME:MDT
DTSTART:20260308T090000
END:DAYLIGHT
BEGIN:STANDARD
TZOFFSETFROM:-0600
TZOFFSETTO:-0700
TZNAME:MST
DTSTART:20261101T080000
END:STANDARD
END:VTIMEZONE
BEGIN:VEVENT
DTSTART;TZID=America/Denver:20251026T130000
DTEND;TZID=America/Denver:20251026T143000
DTSTAMP:20260423T220012
CREATED:20251013T224430Z
LAST-MODIFIED:20251013T224703Z
UID:10000478-1761483600-1761489000@rightuseofpower.org
SUMMARY:Collective Transmutation Circle: Honoring Grief - Sun\, October 26\, 2025
DESCRIPTION:Collective Transmutation Circle \nDear Right Use of Power Community\, \nOur mission—to promote a dynamic\, inspiring\, and relational approach to the ethical use of power—feels particularly relevant now. Our core values serve as anchors during this time: we create belonging by holding space for all voices and experiences\, maintain clarity through authentic communication\, foster mutuality by supporting one another with care and curiosity\, and embrace evolution as we grow through change together. \n  \nAn Invitation to Connect \nWe invite you to join us for our next monthly Collective Transmutation Circle on October 26th\, @ 1 pm – 2:30 pm MST.  \nThis gathering provides a space to: \n\nGround together & draw strength from our community\nConnect to universal\, personal\, and collective power\nFind inspiration and support in challenging times\n\n  \nYou can join us at: \nZoom Meeting Link: https://us06web.zoom.us/j/84380430279?pwd=bztymYYVeIfut4HTmllXhabcIJt4mj.1 \nWhether you’re feeling energized\, depleted\, or somewhere in between\, your presence enriches our collective wisdom and strength. \n  \nWho can join? \nAll RUPI community members and their loved ones—friends\, family\, and close connections of any kind—are warmly invited to join this gathering. \nAs we move forward together\, let us remember that our individual and collective responses to this moment matter. Through conscious engagement with power\, we can contribute to positive change in our communities and beyond. \n  \nIn solidarity and hope\, \nRight Use of Power Members Circle (Dau Windwater\, Ki Smith\, Kelly Sheeran\, Sarah Buino\, Fenna Diephuis\, Magi Cooper\, Cedar Barstow\, Amanda Aguilera)  \nRight Use of Power Institute
URL:https://rightuseofpower.org/event/collective-transmutation-circle-honoring-grief/
CATEGORIES:Collective Transmutation Circle
ATTACH;FMTTYPE=image/png:https://rightuseofpower.org/wp-content/uploads/2024/03/pec-image-2.png
END:VEVENT
END:VCALENDAR