BEGIN:VCALENDAR
VERSION:2.0
PRODID:-//Right Use of Power Institute - ECPv6.15.20//NONSGML v1.0//EN
CALSCALE:GREGORIAN
METHOD:PUBLISH
X-ORIGINAL-URL:https://rightuseofpower.org
X-WR-CALDESC:Events for Right Use of Power Institute
REFRESH-INTERVAL;VALUE=DURATION:PT1H
X-Robots-Tag:noindex
X-PUBLISHED-TTL:PT1H
BEGIN:VTIMEZONE
TZID:America/Denver
BEGIN:DAYLIGHT
TZOFFSETFROM:-0700
TZOFFSETTO:-0600
TZNAME:MDT
DTSTART:20240310T090000
END:DAYLIGHT
BEGIN:STANDARD
TZOFFSETFROM:-0600
TZOFFSETTO:-0700
TZNAME:MST
DTSTART:20241103T080000
END:STANDARD
BEGIN:DAYLIGHT
TZOFFSETFROM:-0700
TZOFFSETTO:-0600
TZNAME:MDT
DTSTART:20250309T090000
END:DAYLIGHT
BEGIN:STANDARD
TZOFFSETFROM:-0600
TZOFFSETTO:-0700
TZNAME:MST
DTSTART:20251102T080000
END:STANDARD
BEGIN:DAYLIGHT
TZOFFSETFROM:-0700
TZOFFSETTO:-0600
TZNAME:MDT
DTSTART:20260308T090000
END:DAYLIGHT
BEGIN:STANDARD
TZOFFSETFROM:-0600
TZOFFSETTO:-0700
TZNAME:MST
DTSTART:20261101T080000
END:STANDARD
END:VTIMEZONE
BEGIN:VEVENT
DTSTART;TZID=America/Denver:20251110T110000
DTEND;TZID=America/Denver:20251110T133000
DTSTAMP:20260423T121751
CREATED:20250227T204442Z
LAST-MODIFIED:20251101T215729Z
UID:10000456-1762772400-1762781400@rightuseofpower.org
SUMMARY:Basics Training - November\, 2025
DESCRIPTION:Right Use of Power™ is a dynamic\, inspiring\, and relational approach to the ethical use of power to promote well-being\, the common good and right relationship. We share a language and framework for understanding and navigating power with strength AND heart. \nThe Right Use of Power™ approach is a conscious ethics deep-dive and recognizes that the issues of power in relationships are complex. Our Right Use of Power™ programs focus on increasing skillfulness\, engagement\, and awareness in uses of power. It is ethics from the inside out. \nThis Basics Training is a 2-day\, 2.5hrs live\, online global learning experience for people who want to deepen their understanding of power and start to learn how to use power with strength and heart. Empowering\, relevant\, and dynamic\, our program is presented through engaging presentations\, facilitated discussions\, and experiential practices. \nIn our Basics Training\, you will: \n\nLearn about the five types of power side-by-side with people around the world in a connecting and conscious environment.\nExpand your understanding of the nuances of power\, which creates more room for complexity in relationships.\nDeepen your awareness of your own personal power and how it impacts others.\nGet an introduction to power differentials and their key aspects for better navigating relationships.\n\n  \nBasics Training Series: \n2 days (2.5hrs per day) \nTime: 11:00am-1:30pm MST \n(Due to the complexity of the time zones\, we are only sharing the Mountain Time Zone. Click here to see the hours in your own time zone) \n  \nDates: \n\nMonday\, November 10th\, 2025\nMonday\, November 17th\, 2025\n\nWhere: Online using Zoom (link will be provided after registration) \nPlease see our Video Recording Policy. To indicate your preferences for video recordings\, please be sure to fill out the intake survey in your welcome email. \n  \nContinuing Education Credits (CEUs): \nThe Right Use of Power Institute™ is an NBCC – Approved Continuing Education Provider (ACEPtm) and may offer NBCC-approved clock hours for events that meet NBCC requirements. The ACEP solely is responsible for all aspects of the program (NBCC Provider #6736). \nThe Right Use of Power Institute™ is an ICF – Approved Continuing Education Provider. \nThere is an additional $20 purchase fee for CE documentation. This fee can be paid in our online Shop after your registration is purchased. \n  \nCancellation/Refund Policy: \n\nFull refund minus a $50 handling fee available up to 2 weeks before the first day of training OR\nA voucher for the full amount paid for a future training available up to 1 week before the first day of training\n\n  \nQuestions? We’re happy to answer them! \nEmail us at: \ntraining@rightuseofpower.org for any questions regarding our training programs. \nadmin@rightuseofpower.org for any questions regarding our website\, membership levels\, sign up. \n  \n  \nFacilitators: \nDr. Amanda Aguilera \n \nAmanda currently serves as the Executive Director of RUPI. Driven by her core values of curiosity\, courage\, and connection\, Amanda is adept at putting things together in new ways\, creating visuals that help make learning more accessible\, and communicating complex ideas in simple ways. \nAmanda has a commitment to be courageous in the service of reducing and repairing harm in relationship and promoting the cultural shift toward power-and-equity consciousness\, conflict positivity and conflict competency. At the core of her academic and personal passion is the advancement in understanding social power dynamics and deepening the personal and collective uses of power in the world with wisdom and compassion. \nHer doctoral dissertation focused on the dynamics of shame and power in the justice system and she continues to develop theoretical models in the intrapersonal and interpersonal experiences of power dynamics\, including the integration of neurobiology\, contemplative practices and restorative practices as they relate to power differentials. \n  \nNelly Marcadet \n \nNelly Marcadet (she/her/ella/elle) is a power-conscious somatic facilitator and faculty member at the Right Use of Power Institute\, where she leads the International Circle. Trained in IFS (Internal Family Systems) and Hakomi\, she supports individuals in deepening self-awareness\, releasing limiting beliefs\, and cultivating harmony in their lives\, along with confidence in the ethical use of power. \nShe provides grounded\, welcoming spaces for clarity\, integration\, and authentic connection\, nurturing right relationship with oneself and others. \nNelly collaborates with people from diverse backgrounds — including professionals\, spiritual leaders\, and communities — fostering wise and compassionate relationships with power\, and developing trust\, skillfulness\, accountability\, and integrity. \nHer facilitation weaves presence\, attunement\, and embodied wisdom\, gently accompanying each person’s unique unfolding.
URL:https://rightuseofpower.org/event/basics-training-november-2025-2/
CATEGORIES:Basics Training Online
ATTACH;FMTTYPE=image/png:https://rightuseofpower.org/wp-content/uploads/2024/03/Signature-Training-Images-24.png
LOCATION:https://rightuseofpower.org/event/basics-training-november-2025-2/
END:VEVENT
END:VCALENDAR