BEGIN:VCALENDAR
VERSION:2.0
PRODID:-//Right Use of Power Institute - ECPv6.15.20//NONSGML v1.0//EN
CALSCALE:GREGORIAN
METHOD:PUBLISH
X-WR-CALNAME:Right Use of Power Institute
X-ORIGINAL-URL:https://rightuseofpower.org
X-WR-CALDESC:Events for Right Use of Power Institute
REFRESH-INTERVAL;VALUE=DURATION:PT1H
X-Robots-Tag:noindex
X-PUBLISHED-TTL:PT1H
BEGIN:VTIMEZONE
TZID:America/Denver
BEGIN:DAYLIGHT
TZOFFSETFROM:-0700
TZOFFSETTO:-0600
TZNAME:MDT
DTSTART:20240310T090000
END:DAYLIGHT
BEGIN:STANDARD
TZOFFSETFROM:-0600
TZOFFSETTO:-0700
TZNAME:MST
DTSTART:20241103T080000
END:STANDARD
BEGIN:DAYLIGHT
TZOFFSETFROM:-0700
TZOFFSETTO:-0600
TZNAME:MDT
DTSTART:20250309T090000
END:DAYLIGHT
BEGIN:STANDARD
TZOFFSETFROM:-0600
TZOFFSETTO:-0700
TZNAME:MST
DTSTART:20251102T080000
END:STANDARD
BEGIN:DAYLIGHT
TZOFFSETFROM:-0700
TZOFFSETTO:-0600
TZNAME:MDT
DTSTART:20260308T090000
END:DAYLIGHT
BEGIN:STANDARD
TZOFFSETFROM:-0600
TZOFFSETTO:-0700
TZNAME:MST
DTSTART:20261101T080000
END:STANDARD
END:VTIMEZONE
BEGIN:VEVENT
DTSTART;TZID=America/Denver:20251016T093000
DTEND;TZID=America/Denver:20251016T143000
DTSTAMP:20260423T140331
CREATED:20250227T203253Z
LAST-MODIFIED:20251007T212502Z
UID:10000455-1760607000-1760625000@rightuseofpower.org
SUMMARY:Basics Training - October 16th\, 2025
DESCRIPTION:Right Use of Power™ is a dynamic\, inspiring\, and relational approach to the ethical use of power to promote well-being\, the common good and right relationship. We share a language and framework for understanding and navigating power with strength AND heart. \nThe Right Use of Power™ approach is a conscious ethics deep-dive and recognizes that the issues of power in relationships are complex. Our Right Use of Power™ programs focus on increasing skillfulness\, engagement\, and awareness in uses of power. It is ethics from the inside out. \nOur Basics Training is a 5-hour live\, online global learning experience for people who want to deepen their understanding of power and start to learn how to use power with strength and heart. Empowering\, relevant\, and dynamic\, our program is presented through engaging presentations\, facilitated discussions\, and experiential practices. \nIn our Basics Training\, you will: \n\nLearn about the five types of power side-by-side with people around the world in a connecting and conscious environment.\nExpand your understanding of the nuances of power\, which creates more room for complexity in relationships.\nDeepen your awareness of your own personal power and how it impacts others.\nGet an introduction to power differentials and their key aspects for better navigating relationships.\n\n  \nWhen: Thursday\, October 16th\, 2025; 9:30am – 2:30pm MST (Denver USA) \n  \n(Due to the complexity of the time zones\, we are only sharing the Mountain Time Zone. Click here to see the hours in your own time zone) \nWhere: Online using Zoom (link will be provided after registration) \n  \nContinuing Education Credits (CEUs): \nThe Right Use of Power Institute™ is an NBCC – Approved Continuing Education Provider (ACEPtm) and may offer NBCC-approved clock hours for events that meet NBCC requirements. The ACEP solely is responsible for all aspects of the program (NBCC Provider #6736). \nThe Right Use of Power Institute™ is an ICF – Approved Continuing Education Provider. \nThere is an additional $20 purchase fee for CE documentation. This fee can be paid in our online Shop after your registration is purchased. \n  \nCancellation/Refund Policy: \n\nFull refund minus a $50 handling fee available up to 2 weeks before the first day of training OR\nA voucher for the full amount paid for a future training available up to 1 week before the first day of training\n\nPlease see our Video Recording Policy. To indicate your preferences for video recordings\, please be sure to fill out the intake survey in your welcome email. \nQuestions? We’re happy to answer them! \nEmail us at: \ntraining@rightuseofpower.org for any questions regarding our training programs. \nadmin@rightuseofpower.org for any questions regarding our website\, membership levels\, sign up. \n  \n  \nFacilitators: \nDr. Cedar Barstow \n  \n \n\nCedar (she/her) is a consultant and teacher on ethics and ethical issues. She has been designing\, developing\, and teaching this approach since 1994. Cedar’s background includes 30 years as a psychotherapist and 25 years as a teacher. \nShe is the author of books and articles on ethics\, counseling with elders\, women and independence\, and psychotherapy and spirituality. Cedar is also a Hakomi Experiential Psychology Trainer and a member of the Naropa University Adjunct Faculty. She maintains a private psychotherapy and ethics consulting practice in Boulder/Denver and teaches both Right Use of Power™ and Hakomi nationally and internationally. \nThe Right Use of Power™ educational materials and exercises were developed by Cedar over a period of 20 years and dozens of trainings. \nThese teachings have been influenced by many sources in Cedar’s background. She is particularly grateful for her extensive experiences as an administrator\, therapist\, and trainer of the the Hakomi Method of Experiential Psychotherapy\, chair of both the Hakomi Institute International Ethics Committee (HIEC) and the United States Association of Body Psychotherapy (USABP) Ethics Committee\, ethics expert contributor to GoodTherapy.org\, consultant to numerous organizations\, and ceremonialist with the Earth Song Ceremonial Dance Community. \n\n\n\n\nVeronica Borgonovi  \n \n\n\n\n\n\n\n\nVeronica (Bore-go-no-vee; she/her) is a member of the core faculty at the Right Use of Power Institute and has facilitated RUPI’s Basics\, Core\, and Power and Equity Challenge programs. She has also been a student in RUPI’s Power-Conscious Authentic Leadership and Power-Conscious Restorative Integration programs. Veronica is an experienced project leader\, manager\, mentor\, and coach and has supported over 40 client projects in management and social sector consulting across several countries. As an internal organizational leader\, she guided a multi-year effort to transform organizational culture around equity and inclusion across multiple teams and geographies. \nVeronica is guided by her values of wholeheartedness\, interdependence\, curiosity\, connection\, and adventure. As the first in her family born in the United States and a daughter of immigrants from different racial\, class\, and national backgrounds\, she is on a continual exploration around identity and authenticity. Veronica loves the outdoors and finds peace\, joy\, and\, unfortunately\, sometimes injuries in nature\, on both land and water. One of Veronica’s most prized possessions is a peer-voted award for “Most Supportive” from her high school speech and debate team\, which hangs on her wall as a continual reminder to be in right relationship with others.
URL:https://rightuseofpower.org/event/basics-training-october-16th-2025/
CATEGORIES:Basics Training Online
ATTACH;FMTTYPE=image/png:https://rightuseofpower.org/wp-content/uploads/2024/03/Signature-Training-Images-24.png
LOCATION:https://rightuseofpower.org/event/basics-training-october-16th-2025/
END:VEVENT
END:VCALENDAR