BEGIN:VCALENDAR
VERSION:2.0
PRODID:-//Right Use of Power Institute - ECPv6.15.20//NONSGML v1.0//EN
CALSCALE:GREGORIAN
METHOD:PUBLISH
X-WR-CALNAME:Right Use of Power Institute
X-ORIGINAL-URL:https://rightuseofpower.org
X-WR-CALDESC:Events for Right Use of Power Institute
REFRESH-INTERVAL;VALUE=DURATION:PT1H
X-Robots-Tag:noindex
X-PUBLISHED-TTL:PT1H
BEGIN:VTIMEZONE
TZID:America/Denver
BEGIN:DAYLIGHT
TZOFFSETFROM:-0700
TZOFFSETTO:-0600
TZNAME:MDT
DTSTART:20230312T090000
END:DAYLIGHT
BEGIN:STANDARD
TZOFFSETFROM:-0600
TZOFFSETTO:-0700
TZNAME:MST
DTSTART:20231105T080000
END:STANDARD
BEGIN:DAYLIGHT
TZOFFSETFROM:-0700
TZOFFSETTO:-0600
TZNAME:MDT
DTSTART:20240310T090000
END:DAYLIGHT
BEGIN:STANDARD
TZOFFSETFROM:-0600
TZOFFSETTO:-0700
TZNAME:MST
DTSTART:20241103T080000
END:STANDARD
BEGIN:DAYLIGHT
TZOFFSETFROM:-0700
TZOFFSETTO:-0600
TZNAME:MDT
DTSTART:20250309T090000
END:DAYLIGHT
BEGIN:STANDARD
TZOFFSETFROM:-0600
TZOFFSETTO:-0700
TZNAME:MST
DTSTART:20251102T080000
END:STANDARD
END:VTIMEZONE
BEGIN:VEVENT
DTSTART;TZID=America/Denver:20241009T150000
DTEND;TZID=America/Denver:20241009T200000
DTSTAMP:20260424T091205
CREATED:20240407T012643Z
LAST-MODIFIED:20240407T182105Z
UID:10000406-1728486000-1728504000@rightuseofpower.org
SUMMARY:Basics Training - October 9\, 2024
DESCRIPTION:Right Use of Power™ is a dynamic\, inspiring\, and relational approach to the ethical use of power to promote well-being\, the common good and right relationship. We share a language and framework for understanding and navigating power with strength AND heart. \nThe Right Use of Power™ approach is a conscious ethics deep-dive and recognizes that the issues of power in relationships are complex. Our Right Use of Power™ programs focus on increasing skillfulness\, engagement\, and awareness in uses of power. It is ethics from the inside out. \nOur Basics Training is a 5-hour live\, online global learning experience for people who want to deepen their understanding of power and start to learn how to use power with strength and heart. Empowering\, relevant\, and dynamic\, our program is presented through engaging presentations\, facilitated discussions\, and experiential practices. \nIn our Basics Training\, you will: \n\nLearn about the five types of power side-by-side with people around the world in a connecting and conscious environment.\nExpand your understanding of the nuances of power\, which creates more room for complexity in relationships.\nDeepen your awareness of your own personal power and how it impacts others.\nGet an introduction to power differentials and their key aspects for better navigating relationships.\n\n  \nWhen: Wednesday\, October 9\, 2024; 3pm – 8pm MST (Denver USA) \n(Due to the complexity of the time zones\, we are only sharing the Mountain Time Zone. Click here to see the hours in your own time zone) \n  \nWhere: Online using Zoom (link will be provided after registration) \n  \nContinuing Education Credits (CEUs): \nThe Right Use of Power Institute™ is an NBCC – Approved Continuing Education Provider (ACEPtm) and may offer NBCC-approved clock hours for events that meet NBCC requirements. The ACEP solely is responsible for all aspects of the program (NBCC Provider #6736). \nThe Right Use of Power Institute™ is an ICF – Approved Continuing Education Provider. \nThere is an additional $20 purchase fee for CE documentation. This fee can be paid in our online Shop after your registration is purchased. \n  \nCancellation/Refund Policy: \n\nFull refund minus a $50 handling fee available up to 2 weeks before the first day of training OR\nA voucher for the full amount paid for a future training available up to 1 week before the first day of training\n\n  \nQuestions? We’re happy to answer them! \nEmail us at: \ntraining@rightuseofpower.org for any questions regarding our training programs. \nadmin@rightuseofpower.org for any questions regarding our website\, membership levels\, sign up.
URL:https://rightuseofpower.org/event/basics-training-october-9-2024-2/
CATEGORIES:Basics Training Online
ATTACH;FMTTYPE=image/png:https://rightuseofpower.org/wp-content/uploads/2024/03/Signature-Training-Images-24.png
LOCATION:https://rightuseofpower.org/event/basics-training-october-9-2024-2/
END:VEVENT
END:VCALENDAR