BEGIN:VCALENDAR
VERSION:2.0
PRODID:-//Right Use of Power Institute - ECPv6.15.20//NONSGML v1.0//EN
CALSCALE:GREGORIAN
METHOD:PUBLISH
X-ORIGINAL-URL:https://rightuseofpower.org
X-WR-CALDESC:Events for Right Use of Power Institute
REFRESH-INTERVAL;VALUE=DURATION:PT1H
X-Robots-Tag:noindex
X-PUBLISHED-TTL:PT1H
BEGIN:VTIMEZONE
TZID:America/Denver
BEGIN:DAYLIGHT
TZOFFSETFROM:-0700
TZOFFSETTO:-0600
TZNAME:MDT
DTSTART:20230312T090000
END:DAYLIGHT
BEGIN:STANDARD
TZOFFSETFROM:-0600
TZOFFSETTO:-0700
TZNAME:MST
DTSTART:20231105T080000
END:STANDARD
BEGIN:DAYLIGHT
TZOFFSETFROM:-0700
TZOFFSETTO:-0600
TZNAME:MDT
DTSTART:20240310T090000
END:DAYLIGHT
BEGIN:STANDARD
TZOFFSETFROM:-0600
TZOFFSETTO:-0700
TZNAME:MST
DTSTART:20241103T080000
END:STANDARD
BEGIN:DAYLIGHT
TZOFFSETFROM:-0700
TZOFFSETTO:-0600
TZNAME:MDT
DTSTART:20250309T090000
END:DAYLIGHT
BEGIN:STANDARD
TZOFFSETFROM:-0600
TZOFFSETTO:-0700
TZNAME:MST
DTSTART:20251102T080000
END:STANDARD
END:VTIMEZONE
BEGIN:VEVENT
DTSTART;TZID=America/Denver:20240919T093000
DTEND;TZID=America/Denver:20240919T143000
DTSTAMP:20260424T105739
CREATED:20240407T011900Z
LAST-MODIFIED:20240407T011955Z
UID:10000405-1726738200-1726756200@rightuseofpower.org
SUMMARY:Basics Training - September 19\, 2024
DESCRIPTION:Right Use of Power™ is a dynamic\, inspiring\, and relational approach to the ethical use of power to promote well-being\, the common good and right relationship. We share a language and framework for understanding and navigating power with strength AND heart. \nThe Right Use of Power™ approach is a conscious ethics deep-dive and recognizes that the issues of power in relationships are complex. Our Right Use of Power™ programs focus on increasing skillfulness\, engagement\, and awareness in uses of power. It is ethics from the inside out. \nOur Basics Training is a 5-hour live\, online global learning experience for people who want to deepen their understanding of power and start to learn how to use power with strength and heart. Empowering\, relevant\, and dynamic\, our program is presented through engaging presentations\, facilitated discussions\, and experiential practices. \nIn our Basics Training\, you will: \n\nLearn about the five types of power side-by-side with people around the world in a connecting and conscious environment.\nExpand your understanding of the nuances of power\, which creates more room for complexity in relationships.\nDeepen your awareness of your own personal power and how it impacts others.\nGet an introduction to power differentials and their key aspects for better navigating relationships.\n\n  \nWhen: Thursday\, September 19\, 2024; 9:30am – 2:30pm MST (Denver USA) \n(Due to the complexity of the time zones\, we are only sharing the Mountain Time Zone. Click here to see the hours in your own time zone) \n  \nWhere: Online using Zoom (link will be provided after registration) \n  \nContinuing Education Credits (CEUs): \nThe Right Use of Power Institute™ is an NBCC – Approved Continuing Education Provider (ACEPtm) and may offer NBCC-approved clock hours for events that meet NBCC requirements. The ACEP solely is responsible for all aspects of the program (NBCC Provider #6736). \nThe Right Use of Power Institute™ is an ICF – Approved Continuing Education Provider. \nThere is an additional $20 purchase fee for CE documentation. This fee can be paid in our online Shop after your registration is purchased. \n  \nCancellation/Refund Policy: \n\nFull refund minus a $50 handling fee available up to 2 weeks before the first day of training OR\nA voucher for the full amount paid for a future training available up to 1 week before the first day of training\n\n  \nQuestions? We’re happy to answer them! \nEmail us at: \ntraining@rightuseofpower.org for any questions regarding our training programs. \nadmin@rightuseofpower.org for any questions regarding our website\, membership levels\, sign up.
URL:https://rightuseofpower.org/event/basics-training-september-19-2024-2/
CATEGORIES:Basics Training Online
ATTACH;FMTTYPE=image/png:https://rightuseofpower.org/wp-content/uploads/2024/03/Signature-Training-Images-24.png
LOCATION:https://rightuseofpower.org/event/basics-training-september-19-2024-2/
END:VEVENT
BEGIN:VEVENT
DTSTART;TZID=America/Denver:20240921T070000
DTEND;TZID=America/Denver:20240921T120000
DTSTAMP:20260424T105739
CREATED:20240723T205129Z
LAST-MODIFIED:20240723T205129Z
UID:10000418-1726902000-1726920000@rightuseofpower.org
SUMMARY:Formação Elementar em Português - 21 de setembro de 2024
DESCRIPTION:The Right Use of Power™ [O Uso Consciente do Poder] é uma abordagem que olha para o uso ético do poder de forma dinâmica\, inspiradora e relacional para promover o bem-estar individual\, o bem do todo e relações saudáveis. Compartilhamos uma linguagem e uma estrutura para compreender e navegar pelas questões inerentes ao poder com as qualidades da força e do coração.  \nO paradigma do Uso Consciente do Poder  é um mergulho profundo na ética consciente e reconhece que as questões de poder nas relações são complexas. Os nossos programas centram-se em ampliar a destreza\, o envolvimento e a consciência de como usamos o nosso poder. Espelha uma ética de dentro para fora. \nA nossa Formação Elementar é uma experiência de aprendizagem multinacional\, online\, ao vivo\, de 5 horas\, para pessoas que desejam compreender as dinâmicas de poder e começar a aprender como usá-lo com determinação e com o coração. Relevante e dinâmico\, este programa é ensinado através de apresentações interativas\, discussões em grupo\, práticas experienciais\, além de muita reflexão. \nNa nossa Formação Elementar\, vamos: \n\nAprender sobre os cinco tipos de poder lado a lado com pessoas de todo o mundo em um ambiente conectado e consciente.\nAmpliar a compreensão das nuances do poder\, o que cria mais espaço para a complexidade nos relacionamentos.\nAprofundar a consciência de seu próprio poder pessoal e de como ele afeta os outros.\nObter uma introdução aos diferenciais de poder e aos principais aspectos para melhorar os relacionamentos.\n\n  \nQuando: sábado\, 21 de setembro de 2024; \n14.00h – 19.00h Portugal (GMT)\n10.00h – 15.00h São Paulo\, Brasil (BRT)\n07.00h – 12.00h Denver\, EUA (MDT) \n  \nOnde: Online Zoom (o link será fornecido após a inscrição) \n  \nCréditos de Educação Continuada (CEU): \nO Right Use of Power Institute™ é um NBCC [Instituição de Educação Continuada reconhecida: ACEP] e pode oferecer horas reconhecidas pelo NBCC para formações que respeitem os seus requisitos. O ACEP é o único responsável por todos os aspectos do programa (Provedor NBCC #6736). \nO Right Use of Power Institute™ é um ICF – Provedor de Educação Continuada aprovado. \nHá uma taxa adicional de $20 para a documentação CE. Esta taxa pode ser paga na nossa Loja online após o pagamento da inscrição. \n  \nPolítica de cancelamento/reembolso: \n\nReembolso total [exceto a taxa administrativa de $50] até 2 semanas antes do primeiro dia de formação OU\nUm voucher no valor total pago para uma formação futura disponível até 1 semana antes do primeiro dia de formação\n\n  \nQuestões? Temos todo o gosto em responder! \nEnvie-nos um e-mail para: \ntraining@rightuseofpower.org para qualquer dúvida sobre os nossos programas de formação. \nadmin@rightuseofpower.org para qualquer dúvida sobre o nosso site\, tipos de afiliação e inscrições. \n  \nFacilitator: Rossana Appolloni \n \nPsicoterapeuta Somática (Hakomi)\, autora de 3 livros\, podcaster há 10 anos e formadora no âmbito da psicoterapia somática. Luso-italiana\, vive atualmente em Portugal (Lisboa)\, onde facilita processos de psicoterapia individual e de grupo. \nMuito entusiasmada com o Uso Consciente do Poder\, através do qual se apercebeu do quão fora abusada e do quanto desvalorizou o seu próprio poder. No âmbito pessoal\, bem como profissional\, as dinâmicas tornaram-se muito mais claras e a vontade de partilhar o que aprendeu está a dar-nos a oportunidade de oferecer esta formação em português.  \nhttps://www.rossana-appolloni.pt/
URL:https://rightuseofpower.org/event/formacao-elementar-em-portugues-21-de-setembro-de-2024/
CATEGORIES:Basics Training,Basics Training Online
ATTACH;FMTTYPE=image/png:https://rightuseofpower.org/wp-content/uploads/2024/03/Signature-Training-Images-24.png
LOCATION:https://rightuseofpower.org/event/formacao-elementar-em-portugues-21-de-setembro-de-2024/
END:VEVENT
END:VCALENDAR