BEGIN:VCALENDAR
VERSION:2.0
PRODID:-//Right Use of Power Institute - ECPv6.15.20//NONSGML v1.0//EN
CALSCALE:GREGORIAN
METHOD:PUBLISH
X-WR-CALNAME:Right Use of Power Institute
X-ORIGINAL-URL:https://rightuseofpower.org
X-WR-CALDESC:Events for Right Use of Power Institute
REFRESH-INTERVAL;VALUE=DURATION:PT1H
X-Robots-Tag:noindex
X-PUBLISHED-TTL:PT1H
BEGIN:VTIMEZONE
TZID:America/Denver
BEGIN:DAYLIGHT
TZOFFSETFROM:-0700
TZOFFSETTO:-0600
TZNAME:MDT
DTSTART:20250309T090000
END:DAYLIGHT
BEGIN:STANDARD
TZOFFSETFROM:-0600
TZOFFSETTO:-0700
TZNAME:MST
DTSTART:20251102T080000
END:STANDARD
BEGIN:DAYLIGHT
TZOFFSETFROM:-0700
TZOFFSETTO:-0600
TZNAME:MDT
DTSTART:20260308T090000
END:DAYLIGHT
BEGIN:STANDARD
TZOFFSETFROM:-0600
TZOFFSETTO:-0700
TZNAME:MST
DTSTART:20261101T080000
END:STANDARD
BEGIN:DAYLIGHT
TZOFFSETFROM:-0700
TZOFFSETTO:-0600
TZNAME:MDT
DTSTART:20270314T090000
END:DAYLIGHT
BEGIN:STANDARD
TZOFFSETFROM:-0600
TZOFFSETTO:-0700
TZNAME:MST
DTSTART:20271107T080000
END:STANDARD
END:VTIMEZONE
BEGIN:VEVENT
DTSTART;TZID=America/Denver:20260423T120000
DTEND;TZID=America/Denver:20260423T130000
DTSTAMP:20260423T105751
CREATED:20260319T183227Z
LAST-MODIFIED:20260415T175048Z
UID:10000500-1776945600-1776949200@rightuseofpower.org
SUMMARY:Thought Leader Webinar | Using Rooted Personal Power in Times of Political Upheaval – April 23
DESCRIPTION:FREE EVENT \nIn times of change and uncertainty\, questions of power—how we hold it\, use it\, and respond to it—become essential. In this Thought Leader session\, Farzin explores the relationship between personal power and collective dynamics\, drawing from his experience across both liberatory and institutional spaces. \nHe reflects on how individuals make intentional choices about where to place their energy\, skills\, and influence\, and how power operates within different systems of governance. Rooted in the principles of the Right Use of Power Institute\, this conversation invites participants to consider how personal power can remain a steady\, ethical\, and responsive force in complex times. \nCome join us in this engaging conversation. \nFarzin Farzad \n\n\n\n\nRight Use of Power Institute is honored to have one of our former Board of Directors join us. \nFarzin Farzad (he/him/his) is the Founder of Critical Equity Consulting\, LLC\, a boutique organizational justice firm that partners with organizations to drive systems-level change and advance equitable outcomes. His expertise is grounded in experience across higher education\, local government\, and the private sector\, and is complemented by Master’s degrees in International Affairs and Diplomacy\, along with a certificate in Conflict Resolution. Farzin also serves as the Director of Diversity\, Equity\, and Inclusion at Run for Something. \n\n\n\nHosted by Dr. Cedar Barstow\n\n\nCedar (she/her) is the developer of the Right Use of Power approach to issues and dynamics of power and ethics since 1994. Cedar’s background includes 30 years as a psychotherapist and 25 years as a teacher. \nThe Founder of The Right Use of Power Institute (RUPI)\, she and her colleagues continue to grow and evolve the concepts\, skills\, books\, embodied exercises and courses that are accessed through the website. \n\n\n\nThese webinar recordings are available to all Power Positive Members and higher.
URL:https://rightuseofpower.org/event/thought-leader-webinar-april-23/
CATEGORIES:Thought Leader Webinar
ATTACH;FMTTYPE=image/png:https://rightuseofpower.org/wp-content/uploads/2024/05/Untitled-design-11.png
LOCATION:https://rightuseofpower.org/event/thought-leader-webinar-april-23/
END:VEVENT
END:VCALENDAR